BEGIN:VCALENDAR
VERSION:2.0
PRODID:-//Regard Culturel - ECPv6.15.20//NONSGML v1.0//EN
CALSCALE:GREGORIAN
METHOD:PUBLISH
X-WR-CALNAME:Regard Culturel
X-ORIGINAL-URL:https://www.regard-culturel.com
X-WR-CALDESC:Évènements pour Regard Culturel
REFRESH-INTERVAL;VALUE=DURATION:PT1H
X-Robots-Tag:noindex
X-PUBLISHED-TTL:PT1H
BEGIN:VTIMEZONE
TZID:Europe/Paris
BEGIN:DAYLIGHT
TZOFFSETFROM:+0100
TZOFFSETTO:+0200
TZNAME:CEST
DTSTART:20230326T010000
END:DAYLIGHT
BEGIN:STANDARD
TZOFFSETFROM:+0200
TZOFFSETTO:+0100
TZNAME:CET
DTSTART:20231029T010000
END:STANDARD
BEGIN:DAYLIGHT
TZOFFSETFROM:+0100
TZOFFSETTO:+0200
TZNAME:CEST
DTSTART:20240331T010000
END:DAYLIGHT
BEGIN:STANDARD
TZOFFSETFROM:+0200
TZOFFSETTO:+0100
TZNAME:CET
DTSTART:20241027T010000
END:STANDARD
BEGIN:DAYLIGHT
TZOFFSETFROM:+0100
TZOFFSETTO:+0200
TZNAME:CEST
DTSTART:20250330T010000
END:DAYLIGHT
BEGIN:STANDARD
TZOFFSETFROM:+0200
TZOFFSETTO:+0100
TZNAME:CET
DTSTART:20251026T010000
END:STANDARD
END:VTIMEZONE
BEGIN:VEVENT
DTSTART;TZID=Europe/Paris:20240608T210000
DTEND;TZID=Europe/Paris:20240608T223000
DTSTAMP:20260423T152756
CREATED:20240229T181930Z
LAST-MODIFIED:20240923T211044Z
UID:1168-1717880400-1717885800@www.regard-culturel.com
SUMMARY:LA BIBLE\, le best of
DESCRIPTION:Par la compagnie Komikaz. \n\n\n\nUne comédie pas très catholique de et avec : Philippe Fabreges\, Jean Lin Farchi\, Igor Lafferrerie & Loucky.Mise en scène : Thaïs Herbreteau & Laure Dehorter \n\n\n\nNouvelle mise en scène testée à Bailleau-Armenonville avant présentation au Festival d’Avignon à la COMEDIE DU FORUM\, 20 Place de l’Horloge\, 84000 Avignon\, du 3 au 21 juillet à 16h30. \n\n\n\nSynopsis : \n\n\n\nGrâce à « La Bible\, le best of »\, clin d’œil parodique\, bienveillant et interactif\, redécouvrez ce texte emblématique. \n\n\n\nTrouvez les réponses à toutes les questions que vous vous posez\, ou pas\, sur ce monument qui a marqué l’Histoire. \n\n\n\n\nAdam avait-il une relation inclusive avec Eve ?\n\n\n\nLe bien-être animal était-il respecté sur l’Arche de Noé ?\n\n\n\nLa traversée de la Mer Rouge a-t-elle été éco-responsable ?\n\n\n\nLes Rois Mages étaient-ils en retard du fait de problèmes géopolitiques ?\n\n\n\nJésus a-t-il eu un procès équitable ?\n\n\n\n\nCe spectacle prend son inspiration auprès des Inconnus\, du PalmaShow\, des Monty Python et rend hommage à Molière et son Tartuffe. \n\n\n\nA savoir : toutes les scènes de ce spectacle s’appuient sur les vrais passages de la Bible\, très légèrement revisités… \n\n\n\nPour tout public. A partir de 8 ans. \n\n\n\nDurée : 80 minutes soit 1H20 env. \n\n\n\nTarifs :Adulte = 15 €10 à 18 ans = 5 €– de 10 ans = gratuit. \n\n\n\nOuverture de la billetterie à 20H30\, fermeture des portes à 21H.Paiement par chèque à l’ordre de : Regard CulturelPaiement en espèce : Faire l’appoint si possible.Pas de carte bancaire. \n\n\n\nBilletterie sur place\, pas de réservation – Placement libre (Exception PMR).Les personnes PMR ou ayant un handicap et leurs accompagnants sont placées prioritairement sur le devant de la scène. Nous prévenir à l’avance par mail pour mieux organiser la salle. \n\n\n\nRenseignements au : 06 83 46 81 54 \n\n\n\nPlaquette :
URL:https://www.regard-culturel.com/event/la-bible-le-best-of/
LOCATION:Maison des associations\, 2 rue du 19 mars 1962 - Bailleau sous Gallardon\, BAILLEAU-ARMENONVILLE\, Centre-Val de Loire\, 28320\, France
CATEGORIES:Spectacle
ORGANIZER;CN="Regard Culturel":MAILTO:regard.culturel@yahoo.fr
END:VEVENT
END:VCALENDAR